BEGIN:VCALENDAR
VERSION:2.0
PRODID:-//Pikes Peak Mycological Society - ECPv6.15.1.1//NONSGML v1.0//EN
CALSCALE:GREGORIAN
METHOD:PUBLISH
X-ORIGINAL-URL:https://pikespeakmyc.org
X-WR-CALDESC:Events for Pikes Peak Mycological Society
REFRESH-INTERVAL;VALUE=DURATION:PT1H
X-Robots-Tag:noindex
X-PUBLISHED-TTL:PT1H
BEGIN:VTIMEZONE
TZID:America/Denver
BEGIN:DAYLIGHT
TZOFFSETFROM:-0700
TZOFFSETTO:-0600
TZNAME:MDT
DTSTART:20250309T090000
END:DAYLIGHT
BEGIN:STANDARD
TZOFFSETFROM:-0600
TZOFFSETTO:-0700
TZNAME:MST
DTSTART:20251102T080000
END:STANDARD
BEGIN:DAYLIGHT
TZOFFSETFROM:-0700
TZOFFSETTO:-0600
TZNAME:MDT
DTSTART:20260308T090000
END:DAYLIGHT
BEGIN:STANDARD
TZOFFSETFROM:-0600
TZOFFSETTO:-0700
TZNAME:MST
DTSTART:20261101T080000
END:STANDARD
END:VTIMEZONE
BEGIN:VEVENT
DTSTART;TZID=America/Denver:20250906T093000
DTEND;TZID=America/Denver:20250906T130000
DTSTAMP:20260425T043000
CREATED:20250902T172008Z
LAST-MODIFIED:20250902T172008Z
UID:1968-1757151000-1757163600@pikespeakmyc.org
SUMMARY:Joint Foray with the Colorado Mycological Society
DESCRIPTION:We will be joining foray forces with the Colorado Mycological Society! Registration is limited to 20 people.
URL:https://pikespeakmyc.org/event/joint-foray-with-the-colorado-mycological-society/
LOCATION:TBD
END:VEVENT
BEGIN:VEVENT
DTSTART;TZID=America/Denver:20250918T180000
DTEND;TZID=America/Denver:20250918T200000
DTSTAMP:20260425T043000
CREATED:20250910T233640Z
LAST-MODIFIED:20250911T223753Z
UID:1976-1758218400-1758225600@pikespeakmyc.org
SUMMARY:September 18th Cook and Taste
DESCRIPTION:Join PPMS for our annual Mushroom Cook and Taste! This special event is limited to current PPMS members only and there are only 40 spots available so register ASAP! \nWhat to Expect: PPMS President James Chelin and team will be preparing a selection of small bites incorporating locally foraged and cultivated fungi. This is a great opportunity to experience the many different ways to enjoy mushrooms from Colorado and beyond! This is a BYOB event. \nDonations: As this is a unique event for our club members only (no other Myco clubs in CO do something like this!) we are suggesting a $20 tax-deductible donation to help offset food costs. You can donate to our PayPal or at the door using cash.
URL:https://pikespeakmyc.org/event/september-18th-cook-and-taste/
LOCATION:14 Cragmor Village Rd\, Colorado Springs\, CO 80918\, UCCS Farmhouse 14 Cragmor Village Rd\, Colorado Springs\, CO\, 80918\, United States
ORGANIZER;CN="PPMS":MAILTO:info@pikespeakmyc.org
END:VEVENT
BEGIN:VEVENT
DTSTART;TZID=America/Denver:20251022T080000
DTEND;TZID=America/Denver:20251022T170000
DTSTAMP:20260425T043000
CREATED:20251023T010338Z
LAST-MODIFIED:20251023T010338Z
UID:1986-1761120000-1761152400@pikespeakmyc.org
SUMMARY:Know Your Mushrooms with Larry Evans
DESCRIPTION:PPMS and the UCCS Mycological Club are co-hosting a film screening of Know Your Mushrooms! Join us for this free event!\n\nWhen: October 23 starting at 7pm\nWhere: Centennial Hall Room 203\nat the University of Colorado Colorado Springs\nParking: Access the campus map. Park in lot 222.\nWhat to expect: Know Your Mushrooms is a 2008 documentary by Canadian director Ron Mann. The 74 minute Sphinx Productions film examines the counterculture Telluride Mushroom Festival (TMF) which PPMS participates in every year! The film features some of the mycologists and fungi-fanatics gathered at TMF including our friends Larry Evans and Gary Lincoff.
URL:https://pikespeakmyc.org/event/know-your-mushrooms-with-larry-evans/
END:VEVENT
BEGIN:VEVENT
DTSTART;TZID=America/Denver:20260314T130000
DTEND;TZID=America/Denver:20260314T150000
DTSTAMP:20260425T043000
CREATED:20260309T040433Z
LAST-MODIFIED:20260312T000958Z
UID:2019-1773493200-1773500400@pikespeakmyc.org
SUMMARY:Ed Lubow Microscopy Workshop
DESCRIPTION:Please Note: This event is limited to 10 PPMS Member registrations to ensure everyone has adequate time on the microscope. \nIn this hands-on workshop\, Ed will lead us through the fundamentals of microscopy – identifying the microscopic structures of our fungal friends to help us learn more about them. You will gain experience preparing microscope slides\, staining\, and noting prominent structures of fruiting fungal bodies and their mycelia. \nEd is the Editor of “Foraging Mushrooms of the Rocky Mountains: Finding\, Identifying\, and Preparing Edible Wild Mushrooms” by the Colorado Mycological Society and Pikes Peak Mycological Society which is now available to purchase at Poor Richards Bookstore or online at the link below. \nForaging Mushrooms of the Rocky Mountains: Finding\, Identifying\, and Preparing Edible Wild Mushrooms: Amazon.com: Books
URL:https://pikespeakmyc.org/event/ed-lubow-microscopy-workshop/
ORGANIZER;CN="PPMS":MAILTO:info@pikespeakmyc.org
END:VEVENT
END:VCALENDAR